BEGIN:VCALENDAR
VERSION:2.0
PRODID:-//ChamberMaster//Event Calendar 2.0//EN
METHOD:PUBLISH
X-PUBLISHED-TTL:P3D
REFRESH-INTERVAL:P3D
CALSCALE:GREGORIAN
BEGIN:VEVENT
DTSTART:20260502T170000Z
DTEND:20260502T190000Z
X-MICROSOFT-CDO-ALLDAYEVENT:FALSE
SUMMARY:Derby Day Luncheon
DESCRIPTION:We are excited to announce our Kentucky Derby Day which will be held on Saturday\, May 2\, 2026\, at 12:00 Noon. This event is open to the public and is for men and women alike! We offer a lovely lunch to include scones\, soup\, sandwiches\, and a dessert all served at your intricately decorated table. We are also planning a few surprises to complete the festivities. We invite you to wear your derby day hat &/or attire for a chance to win a prize\; however\, you are free to dress in whatever you are most comfortable. Tickets are $25 each. Tables sell out quickly\, so we ask that you reserve your spots soon.\n\n\n\nThere are three ways to reserve your spots:\n\n  Go to the sign-up form at: https://forms.gle/QsaCZmZWkwtaDLNN8\n\n  Emailing yellowbetty13@outlook.com\n\n  Call or Text Tara at 715-919-3407\n\n\n\nReservations and prepayment are required to make seating quick and efficient on the day of the event. Please respond and make payment by April 25th\, 2026. Payments can be mailed to St. Anthony Catholic Church 4315 E 3rd St. Superior\, WI.
X-ALT-DESC;FMTTYPE=text/html:<br />\n<span style="font-size:16px\;">We are excited to announce our Kentucky Derby Day which will be held on Saturday\, May 2\, 2026\, at 12:00 Noon. This event is open to the public and is for men and women alike! We offer a lovely lunch to include scones\, soup\, sandwiches\, and a dessert all served at your intricately decorated table. We are also planning a few surprises to complete the festivities. We invite you to wear your derby day hat &amp\;/or attire for a chance to win a prize\; however\, you are free to dress in whatever you are most comfortable. Tickets are $25 each. Tables sell out quickly\, so we ask that you reserve your spots soon.<br />\n<br />\nThere are three ways to reserve your spots:<br />\n&bull\; Go to the sign-up form at: <a href="https://docs.google.com/forms/d/e/1FAIpQLSduZy7L-6vOC1om7W35804vFcgSbL9mv3oAPhiRnHHata7pnw/viewform?pli=1"><span style="color:#0000FF\;">https://forms.gle/QsaCZmZWkwtaDLNN8</span></a><br />\n&bull\; Emailing yellowbetty13@outlook.com<br />\n&bull\; Call or Text Tara at 715-919-3407<br />\n<br />\nReservations and prepayment are required to make seating quick and efficient on the day of the event. Please respond and make payment by April 25th\, 2026. Payments can be mailed to St. Anthony Catholic Church 4315 E 3rd St. Superior\, WI.</span>
LOCATION:St. Anthony Catholic Church (basement - elevator accessible) 4315 E 3rd Street Superior\, WI 54880
UID:e.3002.21505
SEQUENCE:3
DTSTAMP:20260420T082745Z
URL:https://www.superiorchamber.org/events/details/derby-day-luncheon-21505
END:VEVENT

END:VCALENDAR
