BEGIN:VCALENDAR
VERSION:2.0
PRODID:-//ChamberMaster//Event Calendar 2.0//EN
METHOD:PUBLISH
X-PUBLISHED-TTL:P3D
REFRESH-INTERVAL:P3D
CALSCALE:GREGORIAN
BEGIN:VEVENT
DTSTART:20260515T160000Z
DTEND:20260515T190000Z
X-MICROSOFT-CDO-ALLDAYEVENT:FALSE
SUMMARY:Embark Supported Employment 60th Anniversary Open House
DESCRIPTION:Help us celebrate 60 years of serving our community! Join us to honor our past\, celebrate our impact and look ahead to our future. We invite past and current participants\, families\, teams and community business partners to join us in the celebration.
X-ALT-DESC;FMTTYPE=text/html:<br />\n<span style="font-size:16px\;">Help us celebrate 60 years of serving our community! Join us to honor our past\, celebrate our impact and look ahead to our future. We invite past and current participants\, families\, teams and community business partners to join us in the celebration.&nbsp\;</span>
LOCATION:2320 Hill Avenue Superior\, WI 54880
UID:e.3002.21515
SEQUENCE:3
DTSTAMP:20260420T182910Z
URL:https://www.superiorchamber.org/events/details/embark-supported-employment-60th-anniversary-open-house-21515
END:VEVENT

END:VCALENDAR
