BEGIN:VCALENDAR
VERSION:2.0
PRODID:-//ChamberMaster//Event Calendar 2.0//EN
METHOD:PUBLISH
X-PUBLISHED-TTL:P3D
REFRESH-INTERVAL:P3D
CALSCALE:GREGORIAN
BEGIN:VEVENT
DTSTART:20260430T220000Z
DTEND:20260501T000000Z
X-MICROSOFT-CDO-ALLDAYEVENT:FALSE
SUMMARY:Pop-up Gallery: Superior's Dive Bars
DESCRIPTION:Join artist Erica Dischino as she presents her recent photographic work "Our Place" documenting Superior's dive bars. View retro bar memorabilia from nightlife in the 70's\, 80's and 90's. Enjoy throwback cocktails inspired by historical local taverns.
X-ALT-DESC;FMTTYPE=text/html:<br />\n<span style="font-size:16px\;">Join artist Erica Dischino as she presents her recent photographic work &quot\;Our Place&rdquo\; documenting Superior&rsquo\;s dive bars. View retro bar memorabilia from nightlife in the 70&rsquo\;s\, 80&rsquo\;s and 90&rsquo\;s. Enjoy throwback cocktails inspired by historical local taverns.</span>
LOCATION:Spirit Room 1323 Broadway St. Superior\, WI
UID:e.3002.21510
SEQUENCE:3
DTSTAMP:20260420T082801Z
URL:https://www.superiorchamber.org/events/details/pop-up-gallery-superior-s-dive-bars-21510
END:VEVENT

END:VCALENDAR
