BEGIN:VCALENDAR
VERSION:2.0
PRODID:-//ChamberMaster//Event Calendar 2.0//EN
METHOD:PUBLISH
X-PUBLISHED-TTL:P3D
REFRESH-INTERVAL:P3D
CALSCALE:GREGORIAN
BEGIN:VEVENT
DTSTART:20260520T220000Z
DTEND:20260520T233000Z
X-MICROSOFT-CDO-ALLDAYEVENT:FALSE
SUMMARY:Preventing Scams & Fraud
DESCRIPTION:Join Superior Choice Credit Union and the Superior Police Department for his free seminar\, where we will address various common types of fraud and scams that community members may encounter\, how to identify them as a scam and steps to take if they are a victim.
X-ALT-DESC;FMTTYPE=text/html:<br />\nJoin Superior Choice Credit Union and the Superior Police Department for his free seminar\, where we will address various common types of fraud and scams that community members may encounter\, how to identify them as a scam and steps to take if they are a victim.
LOCATION:City of Superior Government Center Room 270\, 1316 N 14th St\, Superior\, WI
UID:e.3002.21516
SEQUENCE:3
DTSTAMP:20260423T165825Z
URL:https://www.superiorchamber.org/events/details/preventing-scams-fraud-21516
END:VEVENT

END:VCALENDAR
