BEGIN:VCALENDAR
VERSION:2.0
PRODID:-//ChamberMaster//Event Calendar 2.0//EN
METHOD:PUBLISH
X-PUBLISHED-TTL:P3D
REFRESH-INTERVAL:P3D
CALSCALE:GREGORIAN
BEGIN:VEVENT
DTSTART:20260516T140000Z
DTEND:20260516T210000Z
X-MICROSOFT-CDO-ALLDAYEVENT:FALSE
SUMMARY:Spring Expo at The Elks
DESCRIPTION:Come shop from local businesses and learn more about some of the great local artists\, businesses\, and organizations here in the Twin Ports! You can sip while you shop and enjoy finding new treasures all while shopping local!
X-ALT-DESC;FMTTYPE=text/html:<br />\n<span style="font-size:16px\;">Come shop from local businesses and learn more about some of the great local artists\, businesses\, and organizations here in the Twin Ports! You can sip while you shop and enjoy finding new treasures all while shopping local!</span>
LOCATION:Superior Elks Lodge 1503 Belknap St. Superior\, WI
UID:e.3002.21508
SEQUENCE:3
DTSTAMP:20260420T103808Z
URL:https://www.superiorchamber.org/events/details/spring-expo-at-the-elks-21508
END:VEVENT

END:VCALENDAR
