BEGIN:VCALENDAR
VERSION:2.0
PRODID:-//ChamberMaster//Event Calendar 2.0//EN
METHOD:PUBLISH
X-PUBLISHED-TTL:P3D
REFRESH-INTERVAL:P3D
CALSCALE:GREGORIAN
BEGIN:VEVENT
DTSTART:20260516T153000Z
DTEND:20260516T183000Z
X-MICROSOFT-CDO-ALLDAYEVENT:FALSE
SUMMARY:SS Meteor's Grand Reopening & 130th Birthday Party
DESCRIPTION:Help us celebrate the SS Meteor's Grand Reopening & 130th birthday! Take a tour of the ship and see our new exhibits and interactive features. Birthday cake will be served all day\, and there will be giveaways throughout the entire day! Regular priced tours. Exhibit area is free. Tickets can be purchased online at: www.superiorhistoricproperties.org.
X-ALT-DESC;FMTTYPE=text/html:<br />\n<span style="font-size:16px\;">Help us celebrate the SS Meteor&rsquo\;s Grand Reopening &amp\; 130th birthday! Take a tour of the ship and see our new exhibits and interactive features. Birthday cake will be served all day\, and there will be giveaways throughout the entire day! Regular priced tours. Exhibit area is free. Tickets can be purchased online at: www.superiorhistoricproperties.org.</span>
LOCATION:SS Meteor 200 Marina Dr.Superior WI
UID:e.3002.21517
SEQUENCE:3
DTSTAMP:20260424T190313Z
URL:https://www.superiorchamber.org/events/details/ss-meteor-s-grand-reopening-130th-birthday-party-21517
END:VEVENT

END:VCALENDAR
